BEGIN:VCALENDAR
VERSION:2.0
PRODID:-//Unite. The union for staff at the FCA - ECPv6.15.20//NONSGML v1.0//EN
CALSCALE:GREGORIAN
METHOD:PUBLISH
X-WR-CALNAME:Unite. The union for staff at the FCA
X-ORIGINAL-URL:https://unitethefca.org
X-WR-CALDESC:Events for Unite. The union for staff at the FCA
REFRESH-INTERVAL;VALUE=DURATION:PT1H
X-Robots-Tag:noindex
X-PUBLISHED-TTL:PT1H
BEGIN:VTIMEZONE
TZID:Europe/London
BEGIN:DAYLIGHT
TZOFFSETFROM:+0000
TZOFFSETTO:+0100
TZNAME:BST
DTSTART:20220327T010000
END:DAYLIGHT
BEGIN:STANDARD
TZOFFSETFROM:+0100
TZOFFSETTO:+0000
TZNAME:GMT
DTSTART:20221030T010000
END:STANDARD
BEGIN:DAYLIGHT
TZOFFSETFROM:+0000
TZOFFSETTO:+0100
TZNAME:BST
DTSTART:20230326T010000
END:DAYLIGHT
BEGIN:STANDARD
TZOFFSETFROM:+0100
TZOFFSETTO:+0000
TZNAME:GMT
DTSTART:20231029T010000
END:STANDARD
BEGIN:DAYLIGHT
TZOFFSETFROM:+0000
TZOFFSETTO:+0100
TZNAME:BST
DTSTART:20240331T010000
END:DAYLIGHT
BEGIN:STANDARD
TZOFFSETFROM:+0100
TZOFFSETTO:+0000
TZNAME:GMT
DTSTART:20241027T010000
END:STANDARD
END:VTIMEZONE
BEGIN:VEVENT
DTSTART;TZID=Europe/London:20230208T173000
DTEND;TZID=Europe/London:20230208T190000
DTSTAMP:20260426T014516
CREATED:20230131T202458Z
LAST-MODIFIED:20230131T202607Z
UID:1695-1675877400-1675882800@unitethefca.org
SUMMARY:Unite the FCA Town Hall
DESCRIPTION:Join our all-staff Town Hall as we discuss the FCA’s proposed pay for 2023\, how you’ve been affected and how we\, as a Union\, should respond.\n\n\n\n\n\nWhen and where\n\n\n\nDate and time\n\n\n\nWed\, 8 Feb 2023\, 17:30 GMT \n\n\n\nLocation\n\n\n\nOnline \n\n\n\nAbout this event\n\n\n\nThe FCA have announced their decision on staff pay for 2023. This decision was taken without any staff consultation\, makes little adjustment for the cost-of-living crisis\, and leaves a lot of staff with difficult decisions to take for their careers and livelihoods. \n\n\n\nT﻿his Town Hall is for all FCA and PSR staff to come together and discuss how this has affected you\, how this has made you feel\, and what you think we\, as your Union\, should do next. \n\n\n\nY﻿ou do not have to be a member of Unite the Union to join our Town Hall – we strongly encourage all staff to attend regardless of membership\, how long you’ve worked here\, or which office you’re based at. However\, the more members we have\, the stronger our voice on pay and the better your protections in the workplace. You can join Unite the Union here today. \n\n\n\nWe believe the recent announcement significantly and permanently devalues the FCA workforce and stands in stark contrast to their commitments on staff representation made only last month. \n\n\n\nL﻿ast year harsh absolute pay cuts\, lack of staff representation\, and reduced conditions and benefits saw staff have no choice but take industrial action for the first time in the FCA’s history. Whilst we always consider industrial action a last resort\, we’re concerned that\, despite explicit commitments made to staff in the wake of such action\, the FCA has not delivered progress on any of these issues to date. \n\n\n\nY﻿ou voice will make a difference in what we do next – so please do join. \n\n\n\n\n\n\n\n\n\nIf you’re not yet a member of Unite\, you can also join our Branch Newsletter mailing list by emailing uniteatfca@gmail.com to opt in.
URL:https://unitethefca.org/event/unite-the-fca-town-hall-3/
ATTACH;FMTTYPE=image/jpeg:https://unitethefca.org/wp-content/uploads/2023/01/https___cdn.evbuc_.com_images_433743329_801780176103_1_original.jpg
END:VEVENT
END:VCALENDAR