BEGIN:VCALENDAR
VERSION:2.0
PRODID:-//Unite. The union for staff at the FCA - ECPv6.15.20//NONSGML v1.0//EN
CALSCALE:GREGORIAN
METHOD:PUBLISH
X-ORIGINAL-URL:https://unitethefca.org
X-WR-CALDESC:Events for Unite. The union for staff at the FCA
REFRESH-INTERVAL;VALUE=DURATION:PT1H
X-Robots-Tag:noindex
X-PUBLISHED-TTL:PT1H
BEGIN:VTIMEZONE
TZID:Europe/London
BEGIN:DAYLIGHT
TZOFFSETFROM:+0000
TZOFFSETTO:+0100
TZNAME:BST
DTSTART:20220327T010000
END:DAYLIGHT
BEGIN:STANDARD
TZOFFSETFROM:+0100
TZOFFSETTO:+0000
TZNAME:GMT
DTSTART:20221030T010000
END:STANDARD
BEGIN:DAYLIGHT
TZOFFSETFROM:+0000
TZOFFSETTO:+0100
TZNAME:BST
DTSTART:20230326T010000
END:DAYLIGHT
BEGIN:STANDARD
TZOFFSETFROM:+0100
TZOFFSETTO:+0000
TZNAME:GMT
DTSTART:20231029T010000
END:STANDARD
BEGIN:DAYLIGHT
TZOFFSETFROM:+0000
TZOFFSETTO:+0100
TZNAME:BST
DTSTART:20240331T010000
END:DAYLIGHT
BEGIN:STANDARD
TZOFFSETFROM:+0100
TZOFFSETTO:+0000
TZNAME:GMT
DTSTART:20241027T010000
END:STANDARD
END:VTIMEZONE
BEGIN:VEVENT
DTSTART;TZID=Europe/London:20230419T120000
DTEND;TZID=Europe/London:20230419T140000
DTSTAMP:20260425T224820
CREATED:20230411T200205Z
LAST-MODIFIED:20230412T065609Z
UID:1903-1681905600-1681912800@unitethefca.org
SUMMARY:Coffee Drop-in Sessions - Open to all staff
DESCRIPTION:Meet your representatives and grab a coffee on us
URL:https://unitethefca.org/event/coffee-drop-in-sessions-open-to-all-staff-2/
LOCATION:Signorelli IQL\, 15 Endeavour Square\, Stratford\, London\, E20 1JN\, United Kingdom
ATTACH;FMTTYPE=image/jpeg:https://unitethefca.org/wp-content/uploads/2023/04/nathan-dumlao-pMW4jzELQCw-unsplash-scaled.jpg
END:VEVENT
END:VCALENDAR