BEGIN:VCALENDAR
VERSION:2.0
PRODID:-//Unite. The union for staff at the FCA - ECPv6.15.20//NONSGML v1.0//EN
CALSCALE:GREGORIAN
METHOD:PUBLISH
X-WR-CALNAME:Unite. The union for staff at the FCA
X-ORIGINAL-URL:https://unitethefca.org
X-WR-CALDESC:Events for Unite. The union for staff at the FCA
REFRESH-INTERVAL;VALUE=DURATION:PT1H
X-Robots-Tag:noindex
X-PUBLISHED-TTL:PT1H
BEGIN:VTIMEZONE
TZID:Europe/London
BEGIN:DAYLIGHT
TZOFFSETFROM:+0000
TZOFFSETTO:+0100
TZNAME:BST
DTSTART:20220327T010000
END:DAYLIGHT
BEGIN:STANDARD
TZOFFSETFROM:+0100
TZOFFSETTO:+0000
TZNAME:GMT
DTSTART:20221030T010000
END:STANDARD
BEGIN:DAYLIGHT
TZOFFSETFROM:+0000
TZOFFSETTO:+0100
TZNAME:BST
DTSTART:20230326T010000
END:DAYLIGHT
BEGIN:STANDARD
TZOFFSETFROM:+0100
TZOFFSETTO:+0000
TZNAME:GMT
DTSTART:20231029T010000
END:STANDARD
BEGIN:DAYLIGHT
TZOFFSETFROM:+0000
TZOFFSETTO:+0100
TZNAME:BST
DTSTART:20240331T010000
END:DAYLIGHT
BEGIN:STANDARD
TZOFFSETFROM:+0100
TZOFFSETTO:+0000
TZNAME:GMT
DTSTART:20241027T010000
END:STANDARD
END:VTIMEZONE
BEGIN:VEVENT
DTSTART;TZID=Europe/London:20230426T120000
DTEND;TZID=Europe/London:20230426T140000
DTSTAMP:20260425T224749
CREATED:20230411T200827Z
LAST-MODIFIED:20230411T202004Z
UID:1905-1682510400-1682517600@unitethefca.org
SUMMARY:The Grateful Fed - bring a colleague
DESCRIPTION:Join us for pizza and soft drinks to thank you for your support this past year and to meet your fellow members in a relaxed setting.
URL:https://unitethefca.org/event/the-grateful-fed-bring-a-colleague/
LOCATION:The Outpost Endeavour Square\, Building S5\, Unit 5\, International Quarter London\, Stratford\, London\, E20 1HZ\, United Kingdom
ATTACH;FMTTYPE=image/jpeg:https://unitethefca.org/wp-content/uploads/2023/04/klara-kulikova-WcV2YkM3Dls-unsplash-scaled.jpg
END:VEVENT
END:VCALENDAR