BEGIN:VCALENDAR
VERSION:2.0
PRODID:-//Unite. The union for staff at the FCA - ECPv6.15.20//NONSGML v1.0//EN
CALSCALE:GREGORIAN
METHOD:PUBLISH
X-WR-CALNAME:Unite. The union for staff at the FCA
X-ORIGINAL-URL:https://unitethefca.org
X-WR-CALDESC:Events for Unite. The union for staff at the FCA
REFRESH-INTERVAL;VALUE=DURATION:PT1H
X-Robots-Tag:noindex
X-PUBLISHED-TTL:PT1H
BEGIN:VTIMEZONE
TZID:Europe/London
BEGIN:DAYLIGHT
TZOFFSETFROM:+0000
TZOFFSETTO:+0100
TZNAME:BST
DTSTART:20240331T010000
END:DAYLIGHT
BEGIN:STANDARD
TZOFFSETFROM:+0100
TZOFFSETTO:+0000
TZNAME:GMT
DTSTART:20241027T010000
END:STANDARD
BEGIN:DAYLIGHT
TZOFFSETFROM:+0000
TZOFFSETTO:+0100
TZNAME:BST
DTSTART:20250330T010000
END:DAYLIGHT
BEGIN:STANDARD
TZOFFSETFROM:+0100
TZOFFSETTO:+0000
TZNAME:GMT
DTSTART:20251026T010000
END:STANDARD
BEGIN:DAYLIGHT
TZOFFSETFROM:+0000
TZOFFSETTO:+0100
TZNAME:BST
DTSTART:20260329T010000
END:DAYLIGHT
BEGIN:STANDARD
TZOFFSETFROM:+0100
TZOFFSETTO:+0000
TZNAME:GMT
DTSTART:20261025T010000
END:STANDARD
END:VTIMEZONE
BEGIN:VEVENT
DTSTART;TZID=Europe/London:20250401T120000
DTEND;TZID=Europe/London:20250402T130000
DTSTAMP:20260424T110925
CREATED:20250313T201503Z
LAST-MODIFIED:20250313T201506Z
UID:2163-1743508800-1743598800@unitethefca.org
SUMMARY:Coffee Drop In Session
DESCRIPTION:Have a coffee on Unite on Tuesday and Wednesday from 12:00 – 13:00. Branch Representatives will be available to hear what’s on your mind. You may even score some Unite swag to take back to the office! Open to members and any FCA/PSR staff member wanting to find out more about what Unite does at the organisation.
URL:https://unitethefca.org/event/coffee-drop-in-session-6/
LOCATION:Signorelli IQL\, 15 Endeavour Square\, Stratford\, London\, E20 1JN\, United Kingdom
CATEGORIES:Coffee
END:VEVENT
END:VCALENDAR