BEGIN:VCALENDAR
VERSION:2.0
PRODID:-//Unite. The union for staff at the FCA - ECPv6.15.20//NONSGML v1.0//EN
CALSCALE:GREGORIAN
METHOD:PUBLISH
X-WR-CALNAME:Unite. The union for staff at the FCA
X-ORIGINAL-URL:https://unitethefca.org
X-WR-CALDESC:Events for Unite. The union for staff at the FCA
REFRESH-INTERVAL;VALUE=DURATION:PT1H
X-Robots-Tag:noindex
X-PUBLISHED-TTL:PT1H
BEGIN:VTIMEZONE
TZID:Europe/London
BEGIN:DAYLIGHT
TZOFFSETFROM:+0000
TZOFFSETTO:+0100
TZNAME:BST
DTSTART:20230326T010000
END:DAYLIGHT
BEGIN:STANDARD
TZOFFSETFROM:+0100
TZOFFSETTO:+0000
TZNAME:GMT
DTSTART:20231029T010000
END:STANDARD
BEGIN:DAYLIGHT
TZOFFSETFROM:+0000
TZOFFSETTO:+0100
TZNAME:BST
DTSTART:20240331T010000
END:DAYLIGHT
BEGIN:STANDARD
TZOFFSETFROM:+0100
TZOFFSETTO:+0000
TZNAME:GMT
DTSTART:20241027T010000
END:STANDARD
BEGIN:DAYLIGHT
TZOFFSETFROM:+0000
TZOFFSETTO:+0100
TZNAME:BST
DTSTART:20250330T010000
END:DAYLIGHT
BEGIN:STANDARD
TZOFFSETFROM:+0100
TZOFFSETTO:+0000
TZNAME:GMT
DTSTART:20251026T010000
END:STANDARD
BEGIN:DAYLIGHT
TZOFFSETFROM:+0000
TZOFFSETTO:+0100
TZNAME:BST
DTSTART:20260329T010000
END:DAYLIGHT
BEGIN:STANDARD
TZOFFSETFROM:+0100
TZOFFSETTO:+0000
TZNAME:GMT
DTSTART:20261025T010000
END:STANDARD
BEGIN:DAYLIGHT
TZOFFSETFROM:+0000
TZOFFSETTO:+0100
TZNAME:BST
DTSTART:20270328T010000
END:DAYLIGHT
BEGIN:STANDARD
TZOFFSETFROM:+0100
TZOFFSETTO:+0000
TZNAME:GMT
DTSTART:20271031T010000
END:STANDARD
END:VTIMEZONE
BEGIN:VEVENT
DTSTART;TZID=Europe/London:20241119T120000
DTEND;TZID=Europe/London:20241119T130000
DTSTAMP:20260425T135449
CREATED:20240915T081800Z
LAST-MODIFIED:20250421T100046Z
UID:2048-1732017600-1732021200@unitethefca.org
SUMMARY:November Branch Meeting
DESCRIPTION:Please join the Branch Officers and Representatives in discussing the latest news and issues affecting our Branch. Branch Members will receive a meeting invitation with a Zoom link\, and the link will also be published on our Branch WhatsApp group.
URL:https://unitethefca.org/event/november-branch-meeting/
LOCATION:London
CATEGORIES:Branch Meeting
ORGANIZER;CN="Branch Secretary":MAILTO:uniteatfca@gmail.com
END:VEVENT
BEGIN:VEVENT
DTSTART;TZID=Europe/London:20241202T120000
DTEND;TZID=Europe/London:20241203T130000
DTSTAMP:20260425T135449
CREATED:20240915T083723Z
LAST-MODIFIED:20240915T083743Z
UID:2059-1733140800-1733230800@unitethefca.org
SUMMARY:Coffee Drop In Session
DESCRIPTION:Have a coffee on Unite on Tuesday and Wednesday from 12:00 – 13:00. Branch Representatives will be available to hear what’s on your mind. You may even score some Unite swag to take back to the office! Open to members and any FCA/PSR staff member wanting to find out more about what Unite does at the organisation.
URL:https://unitethefca.org/event/coffee-drop-in-session-5/
LOCATION:Signorelli IQL\, 15 Endeavour Square\, Stratford\, London\, E20 1JN\, United Kingdom
END:VEVENT
BEGIN:VEVENT
DTSTART;TZID=Europe/London:20241217T120000
DTEND;TZID=Europe/London:20241217T130000
DTSTAMP:20260425T135449
CREATED:20240915T082007Z
LAST-MODIFIED:20250421T100041Z
UID:2050-1734436800-1734440400@unitethefca.org
SUMMARY:December Branch Meeting
DESCRIPTION:Please join the Branch Officers and Representatives in discussing the latest news and issues affecting our Branch. Branch Members will receive a meeting invitation with a Zoom link\, and the link will also be published on our Branch WhatsApp group.
URL:https://unitethefca.org/event/december-branch-meeting/
LOCATION:London
CATEGORIES:Branch Meeting
ORGANIZER;CN="Branch Secretary":MAILTO:uniteatfca@gmail.com
END:VEVENT
BEGIN:VEVENT
DTSTART;TZID=Europe/London:20250121T170000
DTEND;TZID=Europe/London:20250121T190000
DTSTAMP:20260425T135449
CREATED:20250110T173339Z
LAST-MODIFIED:20250130T082652Z
UID:2099-1737478800-1737486000@unitethefca.org
SUMMARY:2025 Annual General Meeting
DESCRIPTION:Branch members are invited to our AGM\, to be held in person and on Zoom. Look out for more details on our January members’ newsletter.
URL:https://unitethefca.org/event/branch-2025-annual-general-meeting/
LOCATION:London
CATEGORIES:Branch Meeting
ORGANIZER;CN="Branch Secretary":MAILTO:uniteatfca@gmail.com
END:VEVENT
BEGIN:VEVENT
DTSTART;TZID=Europe/London:20250205T000000
DTEND;TZID=Europe/London:20250206T235959
DTSTAMP:20260425T135449
CREATED:20250130T083326Z
LAST-MODIFIED:20250208T154503Z
UID:2110-1738713600-1738886399@unitethefca.org
SUMMARY:Unite Stalls @ Stratford
DESCRIPTION:Please join us during your lunch break on 5 and 6 February at our pop-up stall on the 15th Floor. Find out about the work that we do to represent staff\, how we organise and advocate for you in the workplace\, and the benefits of belonging to a strong Union.
URL:https://unitethefca.org/event/unite-stalls-stratford/
LOCATION:15th Floor 12 ES\, 12 Endeavour Square\, London\, Please select\, EC201JN
CATEGORIES:Social
ORGANIZER;CN="Branch Secretary":MAILTO:uniteatfca@gmail.com
END:VEVENT
BEGIN:VEVENT
DTSTART;TZID=Europe/London:20250218T120000
DTEND;TZID=Europe/London:20250218T130000
DTSTAMP:20260425T135449
CREATED:20250130T083017Z
LAST-MODIFIED:20250130T084437Z
UID:2108-1739880000-1739883600@unitethefca.org
SUMMARY:February Branch Meeting
DESCRIPTION:Join us for a Zoom meeting to discuss the latest Branch news and issues that affect us. Joining details will be sent to validated members who are subscribed to our newsletter.
URL:https://unitethefca.org/event/february-branch-meeting/
LOCATION:London
CATEGORIES:Branch Meeting
ORGANIZER;CN="Branch Secretary":MAILTO:uniteatfca@gmail.com
END:VEVENT
BEGIN:VEVENT
DTSTART;TZID=Europe/London:20250225T120000
DTEND;TZID=Europe/London:20250225T140000
DTSTAMP:20260425T135449
CREATED:20250130T083456Z
LAST-MODIFIED:20250313T200954Z
UID:2112-1740484800-1740492000@unitethefca.org
SUMMARY:Unite Stalls @ Leeds Office
DESCRIPTION:Please join us during your lunch break on 25 February at our pop-up stall in the Leeds office. Find out about the work that we do to represent staff\, how we organise and advocate for you in the workplace\, and the benefits of belonging to a strong Union.
URL:https://unitethefca.org/event/unite-stalls-leeds-office/
LOCATION:London
CATEGORIES:Social
ORGANIZER;CN="Branch Secretary":MAILTO:uniteatfca@gmail.com
END:VEVENT
BEGIN:VEVENT
DTSTART;TZID=Europe/London:20250226T120000
DTEND;TZID=Europe/London:20250226T140000
DTSTAMP:20260425T135449
CREATED:20250130T083622Z
LAST-MODIFIED:20250313T200924Z
UID:2114-1740571200-1740578400@unitethefca.org
SUMMARY:Unite Stalls @ Edinburgh Office
DESCRIPTION:Please join us during your lunch break on 26 February at our pop-up stall in the Edinburgh Office. Find out about the work that we do to represent staff\, how we organise and advocate for you in the workplace\, and the benefits of belonging to a strong Union.
URL:https://unitethefca.org/event/unite-stalls-edinburgh-office/
LOCATION:London
CATEGORIES:Social
ORGANIZER;CN="Branch Secretary":MAILTO:uniteatfca@gmail.com
END:VEVENT
BEGIN:VEVENT
DTSTART;TZID=Europe/London:20250318T120000
DTEND;TZID=Europe/London:20250318T130000
DTSTAMP:20260425T135449
CREATED:20250313T201150Z
LAST-MODIFIED:20250421T095327Z
UID:2159-1742299200-1742302800@unitethefca.org
SUMMARY:March Branch Meeting
DESCRIPTION:Join us for a Teams meeting to discuss the latest Branch news and issues that affect us. Joining details will be sent to validated members who are subscribed to our newsletter.
URL:https://unitethefca.org/event/march-branch-meeting/
LOCATION:London
CATEGORIES:Branch Meeting
ORGANIZER;CN="Branch Secretary":MAILTO:uniteatfca@gmail.com
END:VEVENT
BEGIN:VEVENT
DTSTART;TZID=Europe/London:20250401T120000
DTEND;TZID=Europe/London:20250402T130000
DTSTAMP:20260425T135449
CREATED:20250313T201503Z
LAST-MODIFIED:20250313T201506Z
UID:2163-1743508800-1743598800@unitethefca.org
SUMMARY:Coffee Drop In Session
DESCRIPTION:Have a coffee on Unite on Tuesday and Wednesday from 12:00 – 13:00. Branch Representatives will be available to hear what’s on your mind. You may even score some Unite swag to take back to the office! Open to members and any FCA/PSR staff member wanting to find out more about what Unite does at the organisation.
URL:https://unitethefca.org/event/coffee-drop-in-session-6/
LOCATION:Signorelli IQL\, 15 Endeavour Square\, Stratford\, London\, E20 1JN\, United Kingdom
CATEGORIES:Coffee
END:VEVENT
BEGIN:VEVENT
DTSTART;TZID=Europe/London:20250415T120000
DTEND;TZID=Europe/London:20250415T130000
DTSTAMP:20260425T135449
CREATED:20250313T201303Z
LAST-MODIFIED:20250421T095421Z
UID:2161-1744718400-1744722000@unitethefca.org
SUMMARY:April Branch Meeting
DESCRIPTION:Join us for a Teams meeting to discuss the latest Branch news and issues that affect us. Joining details will be sent to validated members who are subscribed to our newsletter.
URL:https://unitethefca.org/event/april-branch-meeting/
LOCATION:London
CATEGORIES:Branch Meeting
ORGANIZER;CN="Branch Secretary":MAILTO:uniteatfca@gmail.com
END:VEVENT
BEGIN:VEVENT
DTSTART;TZID=Europe/London:20250520T120000
DTEND;TZID=Europe/London:20250520T130000
DTSTAMP:20260425T135449
CREATED:20250421T095003Z
LAST-MODIFIED:20250421T095403Z
UID:2267-1747742400-1747746000@unitethefca.org
SUMMARY:May Branch Meeting
DESCRIPTION:Join us for a Teams meeting to discuss the latest Branch news and issues that affect us. Joining details will be sent to validated members who are subscribed to our newsletter.
URL:https://unitethefca.org/event/may-branch-meeting/
LOCATION:London
CATEGORIES:Branch Meeting
END:VEVENT
BEGIN:VEVENT
DTSTART;TZID=Europe/London:20250617T120000
DTEND;TZID=Europe/London:20250617T130000
DTSTAMP:20260425T135449
CREATED:20250421T095058Z
LAST-MODIFIED:20250421T095354Z
UID:2269-1750161600-1750165200@unitethefca.org
SUMMARY:June Branch Meeting
DESCRIPTION:Join us for a Teams meeting to discuss the latest Branch news and issues that affect us. Joining details will be sent to validated members who are subscribed to our newsletter.
URL:https://unitethefca.org/event/june-branch-meeting/
LOCATION:London
CATEGORIES:Branch Meeting
END:VEVENT
BEGIN:VEVENT
DTSTART;TZID=Europe/London:20250627T120000
DTEND;TZID=Europe/London:20250627T130000
DTSTAMP:20260425T135449
CREATED:20250620T165232Z
LAST-MODIFIED:20250620T165235Z
UID:2456-1751025600-1751029200@unitethefca.org
SUMMARY:Extraordinary General Meeting
DESCRIPTION:This meeting will be hosted on Teams. Please check your inbox for the meeting link in the invitation.
URL:https://unitethefca.org/event/extraordinary-general-meeting/
LOCATION:London
END:VEVENT
BEGIN:VEVENT
DTSTART;TZID=Europe/London:20250715T120000
DTEND;TZID=Europe/London:20250715T130000
DTSTAMP:20260425T135449
CREATED:20250421T095144Z
LAST-MODIFIED:20250715T115754Z
UID:2271-1752580800-1752584400@unitethefca.org
SUMMARY:July Meeting - OPEN to all staff: Discussion on Hybrid Working Review
DESCRIPTION:Join us for a Teams meeting open to all staff at the FCA and PSR we will be discussing the Hybrid Working Review that is currently underway.
URL:https://unitethefca.org/event/july-branch-meeting/
LOCATION:London
CATEGORIES:Branch Meeting
END:VEVENT
BEGIN:VEVENT
DTSTART;TZID=Europe/London:20250819T120000
DTEND;TZID=Europe/London:20250819T130000
DTSTAMP:20260425T135449
CREATED:20250421T095545Z
LAST-MODIFIED:20250421T100224Z
UID:2273-1755604800-1755608400@unitethefca.org
SUMMARY:August Branch Meeting
DESCRIPTION:Join us for a Teams meeting to discuss the latest Branch news and issues that affect us. Joining details will be sent to validated members who are subscribed to our newsletter.
URL:https://unitethefca.org/event/august-branch-meeting/
LOCATION:London
CATEGORIES:Branch Meeting
END:VEVENT
BEGIN:VEVENT
DTSTART;TZID=Europe/London:20250916T120000
DTEND;TZID=Europe/London:20250916T130000
DTSTAMP:20260425T135449
CREATED:20250421T095635Z
LAST-MODIFIED:20250421T095950Z
UID:2275-1758024000-1758027600@unitethefca.org
SUMMARY:September Branch Meeting
DESCRIPTION:Join us for a Teams meeting to discuss the latest Branch news and issues that affect us. Joining details will be sent to validated members who are subscribed to our newsletter.
URL:https://unitethefca.org/event/september-branch-meeting/
LOCATION:London
CATEGORIES:Branch Meeting
END:VEVENT
BEGIN:VEVENT
DTSTART;TZID=Europe/London:20251021T120000
DTEND;TZID=Europe/London:20251021T130000
DTSTAMP:20260425T135449
CREATED:20250421T095712Z
LAST-MODIFIED:20250421T095942Z
UID:2277-1761048000-1761051600@unitethefca.org
SUMMARY:October Branch Meeting
DESCRIPTION:Join us for a Teams meeting to discuss the latest Branch news and issues that affect us. Joining details will be sent to validated members who are subscribed to our newsletter.
URL:https://unitethefca.org/event/october-branch-meeting-2/
LOCATION:London
CATEGORIES:Branch Meeting
END:VEVENT
BEGIN:VEVENT
DTSTART;TZID=Europe/London:20251118T080000
DTEND;TZID=Europe/London:20251118T170000
DTSTAMP:20260425T135449
CREATED:20250421T095804Z
LAST-MODIFIED:20250421T095936Z
UID:2279-1763452800-1763485200@unitethefca.org
SUMMARY:November Branch Meeting
DESCRIPTION:Join us for a Teams meeting to discuss the latest Branch news and issues that affect us. Joining details will be sent to validated members who are subscribed to our newsletter.
URL:https://unitethefca.org/event/november-branch-meeting-2/
LOCATION:London
CATEGORIES:Branch Meeting
END:VEVENT
BEGIN:VEVENT
DTSTART;TZID=Europe/London:20251216T120000
DTEND;TZID=Europe/London:20251216T130000
DTSTAMP:20260425T135449
CREATED:20250421T095840Z
LAST-MODIFIED:20250421T095930Z
UID:2281-1765886400-1765890000@unitethefca.org
SUMMARY:December Branch Meeting
DESCRIPTION:Join us for a Teams meeting to discuss the latest Branch news and issues that affect us. Joining details will be sent to validated members who are subscribed to our newsletter.
URL:https://unitethefca.org/event/december-branch-meeting-2/
LOCATION:London
CATEGORIES:Branch Meeting
END:VEVENT
BEGIN:VEVENT
DTSTART;TZID=Europe/London:20260226T120000
DTEND;TZID=Europe/London:20260226T130000
DTSTAMP:20260425T135449
CREATED:20260205T170701Z
LAST-MODIFIED:20260205T170705Z
UID:2807-1772107200-1772110800@unitethefca.org
SUMMARY:Branch AGM
DESCRIPTION:Members can join us on Teams. Joining details will be sent to members with validated details
URL:https://unitethefca.org/event/branch-agm/
LOCATION:London
END:VEVENT
BEGIN:VEVENT
DTSTART;TZID=Europe/London:20260303T120000
DTEND;TZID=Europe/London:20260303T130000
DTSTAMP:20260425T135449
CREATED:20260205T170938Z
LAST-MODIFIED:20260205T170942Z
UID:2810-1772539200-1772542800@unitethefca.org
SUMMARY:Signorelli's Catch Ups
DESCRIPTION:Members and non-members are welcome to join us for coffee\, cake and a chat.
URL:https://unitethefca.org/event/signorellis-catch-ups/
LOCATION:London
END:VEVENT
BEGIN:VEVENT
DTSTART;TZID=Europe/London:20260304T120000
DTEND;TZID=Europe/London:20260304T130000
DTSTAMP:20260425T135449
CREATED:20260205T171320Z
LAST-MODIFIED:20260205T171325Z
UID:2813-1772625600-1772629200@unitethefca.org
SUMMARY:Signorelli's Catch Ups
DESCRIPTION:Members and non-members can join us at Signorelli’s for coffee\, cake and a chat.
URL:https://unitethefca.org/event/signorellis-catch-ups-2/
LOCATION:London
END:VEVENT
END:VCALENDAR