BEGIN:VCALENDAR
VERSION:2.0
PRODID:-//Unite. The union for staff at the FCA - ECPv6.15.20//NONSGML v1.0//EN
CALSCALE:GREGORIAN
METHOD:PUBLISH
X-WR-CALNAME:Unite. The union for staff at the FCA
X-ORIGINAL-URL:https://unitethefca.org
X-WR-CALDESC:Events for Unite. The union for staff at the FCA
REFRESH-INTERVAL;VALUE=DURATION:PT1H
X-Robots-Tag:noindex
X-PUBLISHED-TTL:PT1H
BEGIN:VTIMEZONE
TZID:Europe/London
BEGIN:DAYLIGHT
TZOFFSETFROM:+0000
TZOFFSETTO:+0100
TZNAME:BST
DTSTART:20230326T010000
END:DAYLIGHT
BEGIN:STANDARD
TZOFFSETFROM:+0100
TZOFFSETTO:+0000
TZNAME:GMT
DTSTART:20231029T010000
END:STANDARD
BEGIN:DAYLIGHT
TZOFFSETFROM:+0000
TZOFFSETTO:+0100
TZNAME:BST
DTSTART:20240331T010000
END:DAYLIGHT
BEGIN:STANDARD
TZOFFSETFROM:+0100
TZOFFSETTO:+0000
TZNAME:GMT
DTSTART:20241027T010000
END:STANDARD
BEGIN:DAYLIGHT
TZOFFSETFROM:+0000
TZOFFSETTO:+0100
TZNAME:BST
DTSTART:20250330T010000
END:DAYLIGHT
BEGIN:STANDARD
TZOFFSETFROM:+0100
TZOFFSETTO:+0000
TZNAME:GMT
DTSTART:20251026T010000
END:STANDARD
END:VTIMEZONE
BEGIN:VEVENT
DTSTART;TZID=Europe/London:20240710T113000
DTEND;TZID=Europe/London:20240710T140000
DTSTAMP:20260425T002458
CREATED:20240713T090807Z
LAST-MODIFIED:20240713T091752Z
UID:1992-1720611000-1720620000@unitethefca.org
SUMMARY:Unite Branch Stall
DESCRIPTION:Talk to your Unite Branch Representatives about the work that we are doing at the FCA and PSR.
URL:https://unitethefca.org/event/unite-branch-stall/
LOCATION:15th Floor 12 ES\, 12 Endeavour Square\, London\, Please select\, EC201JN
END:VEVENT
BEGIN:VEVENT
DTSTART;TZID=Europe/London:20240711T113000
DTEND;TZID=Europe/London:20240711T140000
DTSTAMP:20260425T002458
CREATED:20240713T090943Z
LAST-MODIFIED:20240713T091758Z
UID:1997-1720697400-1720706400@unitethefca.org
SUMMARY:Unite Branch Stall
DESCRIPTION:Grab a doughnut\, sign up for our newsletter and talk to Branch Reps about what Unite does.
URL:https://unitethefca.org/event/unite-branch-stall-2/
LOCATION:15th Floor 12 ES\, 12 Endeavour Square\, London\, Please select\, EC201JN
END:VEVENT
BEGIN:VEVENT
DTSTART;TZID=Europe/London:20240716T120000
DTEND;TZID=Europe/London:20240716T130000
DTSTAMP:20260425T002458
CREATED:20240713T091508Z
LAST-MODIFIED:20240713T091806Z
UID:2001-1721131200-1721134800@unitethefca.org
SUMMARY:July Branch Meeting
DESCRIPTION:Branch Members will receive a meeting invitation to join the Branch Officers in discussing the latest news affecting our Branch.
URL:https://unitethefca.org/event/branch-meeting-july/
END:VEVENT
BEGIN:VEVENT
DTSTART;TZID=Europe/London:20240731T120000
DTEND;TZID=Europe/London:20240731T130000
DTSTAMP:20260425T002458
CREATED:20240713T092125Z
LAST-MODIFIED:20240915T082642Z
UID:2005-1722427200-1722430800@unitethefca.org
SUMMARY:Coffee Drop In Session
DESCRIPTION:Open to members and any FCA/PSR staff member wanting to find out more about what Unite does at the organisation.
URL:https://unitethefca.org/event/coffee-drop-in-session/
LOCATION:Signorelli IQL\, 15 Endeavour Square\, Stratford\, London\, E20 1JN\, United Kingdom
END:VEVENT
END:VCALENDAR