BEGIN:VCALENDAR
VERSION:2.0
PRODID:-//Unite. The union for staff at the FCA - ECPv6.15.20//NONSGML v1.0//EN
CALSCALE:GREGORIAN
METHOD:PUBLISH
X-ORIGINAL-URL:https://unitethefca.org
X-WR-CALDESC:Events for Unite. The union for staff at the FCA
REFRESH-INTERVAL;VALUE=DURATION:PT1H
X-Robots-Tag:noindex
X-PUBLISHED-TTL:PT1H
BEGIN:VTIMEZONE
TZID:Europe/London
BEGIN:DAYLIGHT
TZOFFSETFROM:+0000
TZOFFSETTO:+0100
TZNAME:BST
DTSTART:20240331T010000
END:DAYLIGHT
BEGIN:STANDARD
TZOFFSETFROM:+0100
TZOFFSETTO:+0000
TZNAME:GMT
DTSTART:20241027T010000
END:STANDARD
BEGIN:DAYLIGHT
TZOFFSETFROM:+0000
TZOFFSETTO:+0100
TZNAME:BST
DTSTART:20250330T010000
END:DAYLIGHT
BEGIN:STANDARD
TZOFFSETFROM:+0100
TZOFFSETTO:+0000
TZNAME:GMT
DTSTART:20251026T010000
END:STANDARD
BEGIN:DAYLIGHT
TZOFFSETFROM:+0000
TZOFFSETTO:+0100
TZNAME:BST
DTSTART:20260329T010000
END:DAYLIGHT
BEGIN:STANDARD
TZOFFSETFROM:+0100
TZOFFSETTO:+0000
TZNAME:GMT
DTSTART:20261025T010000
END:STANDARD
END:VTIMEZONE
BEGIN:VEVENT
DTSTART;TZID=Europe/London:20250205T000000
DTEND;TZID=Europe/London:20250206T235959
DTSTAMP:20260424T124744
CREATED:20250130T083326Z
LAST-MODIFIED:20250208T154503Z
UID:2110-1738713600-1738886399@unitethefca.org
SUMMARY:Unite Stalls @ Stratford
DESCRIPTION:Please join us during your lunch break on 5 and 6 February at our pop-up stall on the 15th Floor. Find out about the work that we do to represent staff\, how we organise and advocate for you in the workplace\, and the benefits of belonging to a strong Union.
URL:https://unitethefca.org/event/unite-stalls-stratford/
LOCATION:15th Floor 12 ES\, 12 Endeavour Square\, London\, Please select\, EC201JN
CATEGORIES:Social
ORGANIZER;CN="Branch Secretary":MAILTO:uniteatfca@gmail.com
END:VEVENT
BEGIN:VEVENT
DTSTART;TZID=Europe/London:20250218T120000
DTEND;TZID=Europe/London:20250218T130000
DTSTAMP:20260424T124744
CREATED:20250130T083017Z
LAST-MODIFIED:20250130T084437Z
UID:2108-1739880000-1739883600@unitethefca.org
SUMMARY:February Branch Meeting
DESCRIPTION:Join us for a Zoom meeting to discuss the latest Branch news and issues that affect us. Joining details will be sent to validated members who are subscribed to our newsletter.
URL:https://unitethefca.org/event/february-branch-meeting/
CATEGORIES:Branch Meeting
ORGANIZER;CN="Branch Secretary":MAILTO:uniteatfca@gmail.com
END:VEVENT
BEGIN:VEVENT
DTSTART;TZID=Europe/London:20250225T120000
DTEND;TZID=Europe/London:20250225T140000
DTSTAMP:20260424T124744
CREATED:20250130T083456Z
LAST-MODIFIED:20250313T200954Z
UID:2112-1740484800-1740492000@unitethefca.org
SUMMARY:Unite Stalls @ Leeds Office
DESCRIPTION:Please join us during your lunch break on 25 February at our pop-up stall in the Leeds office. Find out about the work that we do to represent staff\, how we organise and advocate for you in the workplace\, and the benefits of belonging to a strong Union.
URL:https://unitethefca.org/event/unite-stalls-leeds-office/
CATEGORIES:Social
ORGANIZER;CN="Branch Secretary":MAILTO:uniteatfca@gmail.com
END:VEVENT
BEGIN:VEVENT
DTSTART;TZID=Europe/London:20250226T120000
DTEND;TZID=Europe/London:20250226T140000
DTSTAMP:20260424T124744
CREATED:20250130T083622Z
LAST-MODIFIED:20250313T200924Z
UID:2114-1740571200-1740578400@unitethefca.org
SUMMARY:Unite Stalls @ Edinburgh Office
DESCRIPTION:Please join us during your lunch break on 26 February at our pop-up stall in the Edinburgh Office. Find out about the work that we do to represent staff\, how we organise and advocate for you in the workplace\, and the benefits of belonging to a strong Union.
URL:https://unitethefca.org/event/unite-stalls-edinburgh-office/
CATEGORIES:Social
ORGANIZER;CN="Branch Secretary":MAILTO:uniteatfca@gmail.com
END:VEVENT
END:VCALENDAR